BEGIN:VCALENDAR
VERSION:2.0
PRODID:-//Society of Plastics Engineers - Cleveland Chapter - ECPv6.6.0.2//NONSGML v1.0//EN
CALSCALE:GREGORIAN
METHOD:PUBLISH
X-WR-CALNAME:Society of Plastics Engineers - Cleveland Chapter
X-ORIGINAL-URL:https://specleveland.org
X-WR-CALDESC:Events for Society of Plastics Engineers - Cleveland Chapter
REFRESH-INTERVAL;VALUE=DURATION:PT1H
X-Robots-Tag:noindex
X-PUBLISHED-TTL:PT1H
BEGIN:VTIMEZONE
TZID:America/New_York
BEGIN:DAYLIGHT
TZOFFSETFROM:-0500
TZOFFSETTO:-0400
TZNAME:EDT
DTSTART:20250309T070000
END:DAYLIGHT
BEGIN:STANDARD
TZOFFSETFROM:-0400
TZOFFSETTO:-0500
TZNAME:EST
DTSTART:20251102T060000
END:STANDARD
END:VTIMEZONE
BEGIN:VEVENT
DTSTART;TZID=America/New_York:20251020T170000
DTEND;TZID=America/New_York:20251020T200000
DTSTAMP:20260423T054701
CREATED:20250923T220305Z
LAST-MODIFIED:20250923T220352Z
UID:2646-1760979600-1760990400@specleveland.org
SUMMARY:Cleveland State University - Site Tour and Dinner
DESCRIPTION:SPE Cleveland Presents\nFacility Tour\, Dinner and a Presentation on\n“Cleveland State’s Gateway to Manufacturing Collaboration”\n\nThe Society of Plastics Engineers Cleveland Section cordially invites Northeastern Ohio manufacturing’s HR\, Technical & Operations management and Senior Management to hear Matt Duplin\, CSU Program Manager\, speak about the vision of Cleveland State University-TransDigm Advanced Manufacturing Center. This event will include a facility tour of more than 10\,000 square feet of production ready space for undergraduate students hands-on learning\, industry-sponsored collaboration projects and process training certification. At a time when new manufacturing talent is needed the most\, come see the value in supporting the university’s talent pipeline for local companies. CSU understands the shifting dynamics in U.S. manufacturing and higher education\, and are equipping the Cleveland’s professionals of tomorrow. \n  \nHosted by: Matt Duplin\, Manager\, CSU-TransDigm Advanced Manufacturing Center \nLocation: CSU – TransDigm Advanced Manufacturing Center\, 1768 E.25th Street\, Cleveland 44114 \n  \n$15 for Students \n$20 for SPE Cleveland Members \n$30 for SPE Members \n$35 for Non-Members \nOnline Payment\n	\n					\n				\n				\n					\n					\n				\n\n					\n	\n	\n	\n	\n			Donation Amount:\n		\n		\n			$			15.00\n					\n		StudentsSPE Cleveland MembersSPE MembersNon-members\n	\n				Select Payment Method			\n			\n		\n\n		\n						\n										\n							\n							 PayPal\n						\n									\n					\n			\n\n	\n	\n\n			\n		\n			Personal Info		\n\n		\n        \n            \n                First Name                                    *\n                                            \n            \n         \n\n        \n            \n                Last Name                                            \n\n            \n         \n\n                    \n                \n                    Company Name                                            *\n                                                        \n                \n             \n        \n                \n            \n                Email Address                                    *\n                                                \n            \n\n         \n\n        \n					\n		\n		Billing Details\n				\n			\n				Country									*\n								\n			\n\n			\n				United StatesCanadaUnited KingdomAfghanistanAlbaniaAlgeriaAmerican SamoaAndorraAngolaAnguillaAntarcticaAntigua and BarbudaArgentinaArmeniaArubaAustraliaAustriaAzerbaijanBahamasBahrainBangladeshBarbadosBelarusBelgiumBelizeBeninBermudaBhutanBoliviaBosnia and HerzegovinaBotswanaBouvet IslandBrazilBritish Indian Ocean TerritoryBrunei DarrussalamBulgariaBurkina FasoBurundiCambodiaCameroonCape VerdeCayman IslandsCentral African RepublicChadChileChinaChristmas IslandCocos IslandsColombiaComorosCongo\, Democratic People's RepublicCongo\, Republic ofCook IslandsCosta RicaCote d'IvoireCroatia/HrvatskaCubaCyprus IslandCzech RepublicDenmarkDjiboutiDominicaDominican RepublicEast TimorEcuadorEgyptEquatorial GuineaEl SalvadorEritreaEstoniaEthiopiaFalkland IslandsFaroe IslandsFijiFinlandFranceFrench GuianaFrench PolynesiaFrench Southern TerritoriesGabonGambiaGeorgiaGermanyGreeceGhanaGibraltarGreenlandGrenadaGuadeloupeGuamGuatemalaGuernseyGuineaGuinea-BissauGuyanaHaitiHeard and McDonald IslandsHoly See (City Vatican State)HondurasHong KongHungaryIcelandIndiaIndonesiaIranIraqIrelandIsle of ManIsraelItalyJamaicaJapanJerseyJordanKazakhstanKenyaKiribatiKuwaitKyrgyzstanLao People's Democratic RepublicLatviaLebanonLesothoLiberiaLibyan Arab JamahiriyaLiechtensteinLithuaniaLuxembourgMacauMacedoniaMadagascarMalawiMalaysiaMaldivesMaliMaltaMarshall IslandsMartiniqueMauritaniaMauritiusMayotteMexicoMicronesiaMoldova\, Republic ofMonacoMongoliaMontenegroMontserratMoroccoMozambiqueMyanmarNamibiaNauruNepalNetherlandsNetherlands AntillesNew CaledoniaNew ZealandNicaraguaNigerNigeriaNiueNorfolk IslandNorth KoreaNorthern Mariana IslandsNorwayOmanPakistanPalauPalestinian TerritoriesPanamaPapua New GuineaParaguayPeruPhilippinesPitcairn IslandPolandPortugalPuerto RicoQatarReunion IslandRomaniaRussian FederationRwandaSaint HelenaSaint Kitts and NevisSaint LuciaSaint Pierre and MiquelonSaint Vincent and the GrenadinesSan MarinoSao Tome and PrincipeSaudi ArabiaSenegalSerbiaSeychellesSierra LeoneSingaporeSlovak RepublicSloveniaSolomon IslandsSomaliaSouth AfricaSouth GeorgiaSouth KoreaSpainSri LankaSudanSurinameSvalbard and Jan Mayen IslandsEswatiniSwedenSwitzerlandSyrian Arab RepublicTaiwanTajikistanTanzaniaTogoTokelauTongaThailandTrinidad and TobagoTunisiaTurkeyTurkmenistanTurks and Caicos IslandsTuvaluUgandaUkraineUnited Arab EmiratesUruguayUS Minor Outlying IslandsUzbekistanVanuatuVenezuelaVietnamVirgin Islands (British)Virgin Islands (USA)Wallis and Futuna IslandsWestern SaharaWestern SamoaYemenYugoslaviaZambiaZimbabwe			\n		 \n\n		\n			\n				Address 1									*\n											\n\n			\n		 \n\n		\n			\n				Address 2											\n\n			\n		 \n\n		\n			\n				City									*\n											\n			\n		 \n\n				\n			\n				State\n				*\n				\n			\n							\n					AlabamaAlaskaArizonaArkansasCaliforniaColoradoConnecticutDelawareDistrict of ColumbiaFloridaGeorgiaHawaiiIdahoIllinoisIndianaIowaKansasKentuckyLouisianaMaineMarylandMassachusettsMichiganMinnesotaMississippiMissouriMontanaNebraskaNevadaNew HampshireNew JerseyNew MexicoNew YorkNorth CarolinaNorth DakotaOhioOklahomaOregonPennsylvaniaRhode IslandSouth CarolinaSouth DakotaTennesseeTexasUtahVermontVirginiaWashingtonWest VirginiaWisconsinWyomingAmerican SamoaCanal ZoneCommonwealth of the Northern Mariana IslandsFederated States of MicronesiaGuamMarshall IslandsNorthern Mariana IslandsPalauPhilippine IslandsPuerto RicoTrust Territory of the Pacific IslandsVirgin IslandsArmed Forces - AmericasArmed Forces - Europe\, Canada\, Middle East\, AfricaArmed Forces - Pacific				\n					 \n\n		\n			\n				Zip / Postal Code				*\n							\n\n			\n		 \n			\n		\n			\n				\n			Total		\n		\n			$15.00
URL:https://specleveland.org/event/cleveland-state-university-site-tour-and-dinner/
LOCATION:Cleveland State University – TransDigm Advanced Manufacturing Center\, 1768 E.25th Street\, Cleveland\, Ohio\, 44114\, United States
ATTACH;FMTTYPE=image/png:https://specleveland.org/wp-content/uploads/2025/09/CSU.png
END:VEVENT
END:VCALENDAR