BEGIN:VCALENDAR
VERSION:2.0
PRODID:-//Society of Plastics Engineers - Cleveland Chapter - ECPv6.6.0.2//NONSGML v1.0//EN
CALSCALE:GREGORIAN
METHOD:PUBLISH
X-WR-CALNAME:Society of Plastics Engineers - Cleveland Chapter
X-ORIGINAL-URL:https://specleveland.org
X-WR-CALDESC:Events for Society of Plastics Engineers - Cleveland Chapter
REFRESH-INTERVAL;VALUE=DURATION:PT1H
X-Robots-Tag:noindex
X-PUBLISHED-TTL:PT1H
BEGIN:VTIMEZONE
TZID:America/New_York
BEGIN:DAYLIGHT
TZOFFSETFROM:-0500
TZOFFSETTO:-0400
TZNAME:EDT
DTSTART:20250309T070000
END:DAYLIGHT
BEGIN:STANDARD
TZOFFSETFROM:-0400
TZOFFSETTO:-0500
TZNAME:EST
DTSTART:20251102T060000
END:STANDARD
END:VTIMEZONE
BEGIN:VEVENT
DTSTART;TZID=America/New_York:20250908T180000
DTEND;TZID=America/New_York:20250908T200000
DTSTAMP:20260425T084145
CREATED:20250419T001421Z
LAST-MODIFIED:20250419T001421Z
UID:2540-1757354400-1757361600@specleveland.org
SUMMARY:Parker Hannifin - Site Tour and Dinner
DESCRIPTION:SPE Cleveland Presents\n A Site Tour of\nParker Hannifin\nFollowed by Dinner\n\nParker Hannifin is a Fortune 250 global leader in motion and control technologies\, providing precision-engineered solutions. The Parflex Division\, a segment of Parker’s Fluid Connectors Group\, is headquartered in Ravenna\, Ohio. Parflex specializes in the design and manufacture of high-performance\, polymer-based hoses and tubing for fluid transfer and fluid power applications. \nDuring the tour you will see single & multilayer extrusion of thermoplastic hose and tubing. You’ll also observe secondary manufacturing operations like braiding and hose assembly. Additional production processes on display include fluoropolymer extrusion and a bundling line for the oil & gas market segment. Along the tour\, we will review an electronic day-by-the-hour system for streamlined production scheduling. Finally\, the tour will include the mechanical test lab and Polymer Innovation Center. \n  \nHosted by: Jeffrey Blake\, Manufacutring Engineer Manager \nLocation: Parker Hannifin – Parflex Division\, 1300 N. Freedom Street\, Ravenna\, OH 44266  \n  \n$15 for Students \n$20 for SPE Cleveland Members \n$30 for SPE Members \n$35 for Non-Members \nOnline Payment\n	\n					\n				\n				\n					\n					\n				\n\n					\n	\n	\n	\n	\n			Donation Amount:\n		\n		\n			$			15.00\n					\n		StudentsSPE Cleveland MembersSPE MembersNon-members\n	\n				Select Payment Method			\n			\n		\n\n		\n						\n										\n							\n							 PayPal\n						\n									\n					\n			\n\n	\n	\n\n			\n		\n			Personal Info		\n\n		\n        \n            \n                First Name                                    *\n                                            \n            \n         \n\n        \n            \n                Last Name                                            \n\n            \n         \n\n                    \n                \n                    Company Name                                            *\n                                                        \n                \n             \n        \n                \n            \n                Email Address                                    *\n                                                \n            \n\n         \n\n        \n					\n		\n		Billing Details\n				\n			\n				Country									*\n								\n			\n\n			\n				United StatesCanadaUnited KingdomAfghanistanAlbaniaAlgeriaAmerican SamoaAndorraAngolaAnguillaAntarcticaAntigua and BarbudaArgentinaArmeniaArubaAustraliaAustriaAzerbaijanBahamasBahrainBangladeshBarbadosBelarusBelgiumBelizeBeninBermudaBhutanBoliviaBosnia and HerzegovinaBotswanaBouvet IslandBrazilBritish Indian Ocean TerritoryBrunei DarrussalamBulgariaBurkina FasoBurundiCambodiaCameroonCape VerdeCayman IslandsCentral African RepublicChadChileChinaChristmas IslandCocos IslandsColombiaComorosCongo\, Democratic People's RepublicCongo\, Republic ofCook IslandsCosta RicaCote d'IvoireCroatia/HrvatskaCubaCyprus IslandCzech RepublicDenmarkDjiboutiDominicaDominican RepublicEast TimorEcuadorEgyptEquatorial GuineaEl SalvadorEritreaEstoniaEthiopiaFalkland IslandsFaroe IslandsFijiFinlandFranceFrench GuianaFrench PolynesiaFrench Southern TerritoriesGabonGambiaGeorgiaGermanyGreeceGhanaGibraltarGreenlandGrenadaGuadeloupeGuamGuatemalaGuernseyGuineaGuinea-BissauGuyanaHaitiHeard and McDonald IslandsHoly See (City Vatican State)HondurasHong KongHungaryIcelandIndiaIndonesiaIranIraqIrelandIsle of ManIsraelItalyJamaicaJapanJerseyJordanKazakhstanKenyaKiribatiKuwaitKyrgyzstanLao People's Democratic RepublicLatviaLebanonLesothoLiberiaLibyan Arab JamahiriyaLiechtensteinLithuaniaLuxembourgMacauMacedoniaMadagascarMalawiMalaysiaMaldivesMaliMaltaMarshall IslandsMartiniqueMauritaniaMauritiusMayotteMexicoMicronesiaMoldova\, Republic ofMonacoMongoliaMontenegroMontserratMoroccoMozambiqueMyanmarNamibiaNauruNepalNetherlandsNetherlands AntillesNew CaledoniaNew ZealandNicaraguaNigerNigeriaNiueNorfolk IslandNorth KoreaNorthern Mariana IslandsNorwayOmanPakistanPalauPalestinian TerritoriesPanamaPapua New GuineaParaguayPeruPhilippinesPitcairn IslandPolandPortugalPuerto RicoQatarReunion IslandRomaniaRussian FederationRwandaSaint HelenaSaint Kitts and NevisSaint LuciaSaint Pierre and MiquelonSaint Vincent and the GrenadinesSan MarinoSao Tome and PrincipeSaudi ArabiaSenegalSerbiaSeychellesSierra LeoneSingaporeSlovak RepublicSloveniaSolomon IslandsSomaliaSouth AfricaSouth GeorgiaSouth KoreaSpainSri LankaSudanSurinameSvalbard and Jan Mayen IslandsEswatiniSwedenSwitzerlandSyrian Arab RepublicTaiwanTajikistanTanzaniaTogoTokelauTongaThailandTrinidad and TobagoTunisiaTurkeyTurkmenistanTurks and Caicos IslandsTuvaluUgandaUkraineUnited Arab EmiratesUruguayUS Minor Outlying IslandsUzbekistanVanuatuVenezuelaVietnamVirgin Islands (British)Virgin Islands (USA)Wallis and Futuna IslandsWestern SaharaWestern SamoaYemenYugoslaviaZambiaZimbabwe			\n		 \n\n		\n			\n				Address 1									*\n											\n\n			\n		 \n\n		\n			\n				Address 2											\n\n			\n		 \n\n		\n			\n				City									*\n											\n			\n		 \n\n				\n			\n				State\n				*\n				\n			\n							\n					AlabamaAlaskaArizonaArkansasCaliforniaColoradoConnecticutDelawareDistrict of ColumbiaFloridaGeorgiaHawaiiIdahoIllinoisIndianaIowaKansasKentuckyLouisianaMaineMarylandMassachusettsMichiganMinnesotaMississippiMissouriMontanaNebraskaNevadaNew HampshireNew JerseyNew MexicoNew YorkNorth CarolinaNorth DakotaOhioOklahomaOregonPennsylvaniaRhode IslandSouth CarolinaSouth DakotaTennesseeTexasUtahVermontVirginiaWashingtonWest VirginiaWisconsinWyomingAmerican SamoaCanal ZoneCommonwealth of the Northern Mariana IslandsFederated States of MicronesiaGuamMarshall IslandsNorthern Mariana IslandsPalauPhilippine IslandsPuerto RicoTrust Territory of the Pacific IslandsVirgin IslandsArmed Forces - AmericasArmed Forces - Europe\, Canada\, Middle East\, AfricaArmed Forces - Pacific				\n					 \n\n		\n			\n				Zip / Postal Code				*\n							\n\n			\n		 \n			\n		\n			\n				\n			Total		\n		\n			$15.00
URL:https://specleveland.org/event/parker-hannifin-site-tour-and-dinner/
LOCATION:Parker Hannifin – Parflex Division\, 1300 N. Freedom Street\, Ravenna\, OH\, 44266\, United States
ATTACH;FMTTYPE=image/png:https://specleveland.org/wp-content/uploads/2025/04/Parker_Hannifin.svg_.png
END:VEVENT
END:VCALENDAR